BEGIN:VCALENDAR
VERSION:2.0
PRODID:-//www.aarberg.ch//NONSGML kigkonsult.se iCalcreator 2.22//
CALSCALE:GREGORIAN
METHOD:PUBLISH
X-WR-TIMEZONE:Europe/Berlin
BEGIN:VEVENT
UID:20260421T234904CEST-3938TGvfZV@www.aarberg.ch
DTSTAMP:20260421T214904Z
DESCRIPTION:Klicken Sie auf den folgenden Link\, um weitere Informationen z
 ur Veranstaltung zu erhalten:\nhttp://www.aarberg.ch/de/veranstaltungen/de
 tail/detail.php?i=75
DTSTART:20190612T000000
LOCATION:Stadtplatz
SUMMARY:Monatsmarkt
END:VEVENT
END:VCALENDAR
