BEGIN:VCALENDAR
VERSION:2.0
PRODID:-//www.aarberg.ch//NONSGML kigkonsult.se iCalcreator 2.22//
CALSCALE:GREGORIAN
METHOD:PUBLISH
X-WR-TIMEZONE:Europe/Berlin
BEGIN:VEVENT
UID:20260421T234912CEST-9827gadecV@www.aarberg.ch
DTSTAMP:20260421T214912Z
DESCRIPTION:Klicken Sie auf den folgenden Link\, um weitere Informationen z
 ur Veranstaltung zu erhalten:\nhttp://www.aarberg.ch/de/veranstaltungen/de
 tail/detail.php?i=149
DTSTART:20190830T103000
DTEND:20190830T120000
LOCATION:Schiessanlage Mühlau Aarberg
SUMMARY:3. Obligatorische Bundesübung (Schiessen)
END:VEVENT
END:VCALENDAR
