BEGIN:VCALENDAR
VERSION:2.0
PRODID:-//www.aarberg.ch//NONSGML kigkonsult.se iCalcreator 2.22//
CALSCALE:GREGORIAN
METHOD:PUBLISH
X-WR-TIMEZONE:Europe/Berlin
BEGIN:VEVENT
UID:20260421T235102CEST-5154LE3MKV@www.aarberg.ch
DTSTAMP:20260421T215102Z
DESCRIPTION:Klicken Sie auf den folgenden Link\, um weitere Informationen z
 ur Veranstaltung zu erhalten:\nhttp://www.aarberg.ch/de/veranstaltungen/de
 tail/detail.php?i=148
DTSTART:20190615T093000
DTEND:20190615T113000
LOCATION:Schiessanlage Mühlau Aarberg
SUMMARY:2. Obligatorische Bundesübung (Schiessen)
END:VEVENT
END:VCALENDAR
