BEGIN:VCALENDAR
VERSION:2.0
PRODID:-//www.aarberg.ch//NONSGML kigkonsult.se iCalcreator 2.22//
CALSCALE:GREGORIAN
METHOD:PUBLISH
X-WR-TIMEZONE:Europe/Berlin
BEGIN:VEVENT
UID:20260421T235332CEST-54911oF9WI@www.aarberg.ch
DTSTAMP:20260421T215332Z
DESCRIPTION:Klicken Sie auf den folgenden Link\, um weitere Informationen z
 ur Veranstaltung zu erhalten:\nhttp://www.aarberg.ch/de/veranstaltungen/de
 tail/detail.php?i=147
DTSTART:20190515T180000
DTEND:20190515T200000
LOCATION:Schiessanlage Mühlau
SUMMARY:1. Obligatorische Bundesübung (Schiessen)
END:VEVENT
END:VCALENDAR
