BEGIN:VCALENDAR
VERSION:2.0
PRODID:-//www.aarberg.ch//NONSGML kigkonsult.se iCalcreator 2.22//
CALSCALE:GREGORIAN
METHOD:PUBLISH
X-WR-TIMEZONE:Europe/Berlin
BEGIN:VEVENT
UID:20260421T235024CEST-3336pf7u8H@www.aarberg.ch
DTSTAMP:20260421T215024Z
DESCRIPTION:Klicken Sie auf den folgenden Link\, um weitere Informationen z
 ur Veranstaltung zu erhalten:\nhttp://www.aarberg.ch/de/veranstaltungen/de
 tail/detail.php?i=146
DTSTART:20190526T103000
DTEND:20190526T120000
LOCATION:Schiessanlage Mühlau Aarberg
SUMMARY:Feldschiessen
END:VEVENT
END:VCALENDAR
