BEGIN:VCALENDAR
VERSION:2.0
PRODID:-//www.aarberg.ch//NONSGML kigkonsult.se iCalcreator 2.22//
CALSCALE:GREGORIAN
METHOD:PUBLISH
X-WR-TIMEZONE:Europe/Berlin
BEGIN:VEVENT
UID:20260421T235056CEST-6159GIeo0f@www.aarberg.ch
DTSTAMP:20260421T215056Z
DESCRIPTION:Klicken Sie auf den folgenden Link\, um weitere Informationen z
 ur Veranstaltung zu erhalten:\nhttp://www.aarberg.ch/de/veranstaltungen/de
 tail/detail.php?i=145
DTSTART:20190525T090000
DTEND:20190525T120000
LOCATION:Schiessanlage Mühlau Aarberg
SUMMARY:Feldschiessen
END:VEVENT
END:VCALENDAR
