BEGIN:VCALENDAR
VERSION:2.0
PRODID:-//www.aarberg.ch//NONSGML kigkonsult.se iCalcreator 2.22//
CALSCALE:GREGORIAN
METHOD:PUBLISH
X-WR-TIMEZONE:Europe/Berlin
BEGIN:VEVENT
UID:20260421T235206CEST-60563KlC2W@www.aarberg.ch
DTSTAMP:20260421T215206Z
DESCRIPTION:Klicken Sie auf den folgenden Link\, um weitere Informationen z
 ur Veranstaltung zu erhalten:\nhttp://www.aarberg.ch/de/veranstaltungen/de
 tail/detail.php?i=142
DTSTART:20190216T200000
DTEND:20190217T020000
LOCATION:MZH Bargen
SUMMARY:Konzert und Theater
END:VEVENT
END:VCALENDAR
