BEGIN:VCALENDAR
VERSION:2.0
PRODID:-//www.aarberg.ch//NONSGML kigkonsult.se iCalcreator 2.22//
CALSCALE:GREGORIAN
METHOD:PUBLISH
X-WR-TIMEZONE:Europe/Berlin
BEGIN:VEVENT
UID:20260422T005746CEST-96475H63uB@www.aarberg.ch
DTSTAMP:20260421T225746Z
DESCRIPTION:Klicken Sie auf den folgenden Link\, um weitere Informationen z
 ur Veranstaltung zu erhalten:\nhttp://www.aarberg.ch/de/veranstaltungen/de
 tail/detail.php?i=140
DTSTART:20190323T000000
LOCATION:Aarfit Halle
SUMMARY:Kids U12 Finalturnier
END:VEVENT
END:VCALENDAR
