BEGIN:VCALENDAR
VERSION:2.0
PRODID:-//www.aarberg.ch//NONSGML kigkonsult.se iCalcreator 2.22//
CALSCALE:GREGORIAN
METHOD:PUBLISH
X-WR-TIMEZONE:Europe/Berlin
BEGIN:VEVENT
UID:20260421T235434CEST-2527VnerR9@www.aarberg.ch
DTSTAMP:20260421T215434Z
DESCRIPTION:Klicken Sie auf den folgenden Link\, um weitere Informationen z
 ur Veranstaltung zu erhalten:\nhttp://www.aarberg.ch/de/veranstaltungen/de
 tail/detail.php?i=139
DTSTART:20181110T000000
LOCATION:Aarfit Halle
SUMMARY:Kids U12 Turnier
END:VEVENT
END:VCALENDAR
