BEGIN:VCALENDAR
VERSION:2.0
PRODID:-//www.aarberg.ch//NONSGML kigkonsult.se iCalcreator 2.22//
CALSCALE:GREGORIAN
METHOD:PUBLISH
X-WR-TIMEZONE:Europe/Berlin
BEGIN:VEVENT
UID:20260421T235328CEST-3509KmKdxs@www.aarberg.ch
DTSTAMP:20260421T215328Z
DESCRIPTION:Klicken Sie auf den folgenden Link\, um weitere Informationen z
 ur Veranstaltung zu erhalten:\nhttp://www.aarberg.ch/de/veranstaltungen/de
 tail/detail.php?i=136
DTSTART:20181117T090000
DTEND:20181118T180000
LOCATION:AARfit-Halle Aarberg
SUMMARY:KARATE Schweizermeisterschaften
END:VEVENT
END:VCALENDAR
