BEGIN:VCALENDAR
VERSION:2.0
PRODID:-//www.aarberg.ch//NONSGML kigkonsult.se iCalcreator 2.22//
CALSCALE:GREGORIAN
METHOD:PUBLISH
X-WR-TIMEZONE:Europe/Berlin
BEGIN:VEVENT
UID:20260422T005857CEST-3616Kd9Akv@www.aarberg.ch
DTSTAMP:20260421T225857Z
DESCRIPTION:Klicken Sie auf den folgenden Link\, um weitere Informationen z
 ur Veranstaltung zu erhalten:\nhttp://www.aarberg.ch/de/veranstaltungen/de
 tail/detail.php?i=135
DTSTART:20181103T200000
DTEND:20181103T220000
LOCATION:Ev. ref. Kirchgemeindehaus Lyss
SUMMARY:PopChor Aarberg - Konzert im ref. Kirchgemeindehaus Lyss
END:VEVENT
END:VCALENDAR
