BEGIN:VCALENDAR
VERSION:2.0
PRODID:-//www.aarberg.ch//NONSGML kigkonsult.se iCalcreator 2.22//
CALSCALE:GREGORIAN
METHOD:PUBLISH
X-WR-TIMEZONE:Europe/Berlin
BEGIN:VEVENT
UID:20260421T131253CEST-5838pbaGrj@www.aarberg.ch
DTSTAMP:20260421T111253Z
DESCRIPTION:Klicken Sie auf den folgenden Link\, um weitere Informationen z
 ur Veranstaltung zu erhalten:\nhttp://www.aarberg.ch/de/veranstaltungen/de
 tail/detail.php?i=1347
DTSTART:20260424T000000
DTEND:20260425T000000
LOCATION:Stadtplatz Aarberg\, vor der Kirche
SUMMARY:Kinder Puce
END:VEVENT
END:VCALENDAR
