BEGIN:VCALENDAR
VERSION:2.0
PRODID:-//www.aarberg.ch//NONSGML kigkonsult.se iCalcreator 2.22//
CALSCALE:GREGORIAN
METHOD:PUBLISH
X-WR-TIMEZONE:Europe/Berlin
BEGIN:VEVENT
UID:20260421T130631CEST-0696agd7gu@www.aarberg.ch
DTSTAMP:20260421T110631Z
DESCRIPTION:Klicken Sie auf den folgenden Link\, um weitere Informationen z
 ur Veranstaltung zu erhalten:\nhttp://www.aarberg.ch/de/veranstaltungen/de
 tail/detail.php?i=1345
DTSTART:20260605T090000
DTEND:20260605T110000
LOCATION:Kirchgemeindehaus Aarberg
SUMMARY:Krabbelcafé
END:VEVENT
END:VCALENDAR
