BEGIN:VCALENDAR
VERSION:2.0
PRODID:-//www.aarberg.ch//NONSGML kigkonsult.se iCalcreator 2.22//
CALSCALE:GREGORIAN
METHOD:PUBLISH
X-WR-TIMEZONE:Europe/Berlin
BEGIN:VEVENT
UID:20260421T114318CEST-3827z0RmaV@www.aarberg.ch
DTSTAMP:20260421T094318Z
DESCRIPTION:Klicken Sie auf den folgenden Link\, um weitere Informationen z
 ur Veranstaltung zu erhalten:\nhttp://www.aarberg.ch/de/veranstaltungen/de
 tail/detail.php?i=1344
DTSTART:20260501T090000
DTEND:20260501T110000
LOCATION:Kirchgemeindehaus Aarberg
SUMMARY:Krabbelcafé
END:VEVENT
END:VCALENDAR
