BEGIN:VCALENDAR
VERSION:2.0
PRODID:-//www.aarberg.ch//NONSGML kigkonsult.se iCalcreator 2.22//
CALSCALE:GREGORIAN
METHOD:PUBLISH
X-WR-TIMEZONE:Europe/Berlin
BEGIN:VEVENT
UID:20260421T234935CEST-22026vIAti@www.aarberg.ch
DTSTAMP:20260421T214935Z
DESCRIPTION:Klicken Sie auf den folgenden Link\, um weitere Informationen z
 ur Veranstaltung zu erhalten:\nhttp://www.aarberg.ch/de/veranstaltungen/de
 tail/detail.php?i=128
DTSTART:20181130T150000
DTEND:20181201T190000
LOCATION:Rathauskeller Stedtli Aarberg
SUMMARY:Lebkuchen verzieren am Chlousermärit
END:VEVENT
END:VCALENDAR
