BEGIN:VCALENDAR
VERSION:2.0
PRODID:-//www.aarberg.ch//NONSGML kigkonsult.se iCalcreator 2.22//
CALSCALE:GREGORIAN
METHOD:PUBLISH
X-WR-TIMEZONE:Europe/Berlin
BEGIN:VEVENT
UID:20260421T235257CEST-3936D7UBgt@www.aarberg.ch
DTSTAMP:20260421T215257Z
DESCRIPTION:Klicken Sie auf den folgenden Link\, um weitere Informationen z
 ur Veranstaltung zu erhalten:\nhttp://www.aarberg.ch/de/veranstaltungen/de
 tail/detail.php?i=126
DTSTART:20181109T133000
DTEND:20181110T170000
LOCATION:Werkraum Primarschule Aarberg
SUMMARY:Kerzenziehen
END:VEVENT
END:VCALENDAR
