BEGIN:VCALENDAR
VERSION:2.0
PRODID:-//www.aarberg.ch//NONSGML kigkonsult.se iCalcreator 2.22//
CALSCALE:GREGORIAN
METHOD:PUBLISH
X-WR-TIMEZONE:Europe/Berlin
BEGIN:VEVENT
UID:20260421T235024CEST-4760VbmnKf@www.aarberg.ch
DTSTAMP:20260421T215024Z
DESCRIPTION:Klicken Sie auf den folgenden Link\, um weitere Informationen z
 ur Veranstaltung zu erhalten:\nhttp://www.aarberg.ch/de/veranstaltungen/de
 tail/detail.php?i=123
DTSTART:20180919T133000
DTEND:20180919T163000
LOCATION:Waldspielgruppenplatz der Burgzwärgli
SUMMARY:Waldnachmittag Thema: Kinderyoga
END:VEVENT
END:VCALENDAR
