BEGIN:VCALENDAR
VERSION:2.0
PRODID:-//www.aarberg.ch//NONSGML kigkonsult.se iCalcreator 2.22//
CALSCALE:GREGORIAN
METHOD:PUBLISH
X-WR-TIMEZONE:Europe/Berlin
BEGIN:VEVENT
UID:20260421T235602CEST-8270oEfhaC@www.aarberg.ch
DTSTAMP:20260421T215602Z
DESCRIPTION:Klicken Sie auf den folgenden Link\, um weitere Informationen z
 ur Veranstaltung zu erhalten:\nhttp://www.aarberg.ch/de/veranstaltungen/de
 tail/detail.php?i=119
DTSTART:20181019T090000
DTEND:20181019T110000
LOCATION:Kirchgemeindehaus Aarberg
SUMMARY:Krabbelcafé
END:VEVENT
END:VCALENDAR
