BEGIN:VCALENDAR
VERSION:2.0
PRODID:-//www.aarberg.ch//NONSGML kigkonsult.se iCalcreator 2.22//
CALSCALE:GREGORIAN
METHOD:PUBLISH
X-WR-TIMEZONE:Europe/Berlin
BEGIN:VEVENT
UID:20260421T235618CEST-2034ej18N6@www.aarberg.ch
DTSTAMP:20260421T215618Z
DESCRIPTION:Klicken Sie auf den folgenden Link\, um weitere Informationen z
 ur Veranstaltung zu erhalten:\nhttp://www.aarberg.ch/de/veranstaltungen/de
 tail/detail.php?i=1104
DTSTART:20260514T000000
DTEND:20260517T000000
LOCATION:in Interlaken
SUMMARY:Eidgenössisches Musikfest 
END:VEVENT
END:VCALENDAR
